BEGIN:VCALENDAR
VERSION:2.0
METHOD:PUBLISH
BEGIN:VEVENT
DTSTART:20211110T080000Z
DTEND:20211110T160000Z
DTSTAMP:20260424T222010Z
SEQUENCE:0
STATUS:CONFIRMED
SUMMARY:Kolloquium "Forschung und Entwicklung für Zement und Beton" 2021
DESCRIPTION:Die Vereinigung der Österreichischen Zementindustrie (VÖZ) organisiert seit über 30 Jahren das Kolloquium "Forschung & Entwicklung für Zement und Beton". 2020 stand die Veranstaltung ganz im Zeichen des "5C Approach" der Europäischen Zementvereinigung auf dem Weg zur Klimaneutralität und fand als Webinar statt. Wir hoffen, dass wir das Kolloquium 2021 in gewohntem Rahmen in der Wirtschaftskammer abhalten können, um mit Ihnen und den Vortragenden die neuesten Entwicklungen anhand angewandter Forschungsergebnisse zu diskutieren. Einreichung von Beiträgen bis zum 16. August 2021! Nähere Informationen finden Sie hier! 
UID:7eeda1cf-9338-46f8-938f-37aa672720ab
CLASS:PUBLIC
TRANSP:OPAQUE
END:VEVENT
END:VCALENDAR
