BEGIN:VCALENDAR
VERSION:2.0
METHOD:PUBLISH
BEGIN:VEVENT
DTSTART:20240318T074500Z
DTEND:20240320T131500Z
DTSTAMP:20260422T210128Z
SEQUENCE:0
STATUS:CONFIRMED
SUMMARY:FSV-Schulung: Brückeninspektoren - Basislehrgang
LOCATION:Forschungsgesellschaft Straße - Schiene - Verkehr, 1. Stock, Saal A+B, Karlsgasse 5, 1040 Wien
UID:7efd912a-07ac-478a-983b-37545a01bee0
CLASS:PUBLIC
TRANSP:OPAQUE
END:VEVENT
END:VCALENDAR
