BEGIN:VCALENDAR
VERSION:2.0
METHOD:PUBLISH
BEGIN:VEVENT
DTSTART:20211125T110000Z
DTEND:20211125T150000Z
DTSTAMP:20260424T223015Z
SEQUENCE:0
STATUS:CONFIRMED
SUMMARY:Aachener Straßenbau- und Verkehrstage 2021
DESCRIPTION:Hybrid-Event In diesem Jahr wird die Veranstaltung wieder gemeinsam von der Forschungsvereinigung Straßenwesen, Erd- und Tunnelbau Aachen e. V. (SETAC) und der Vereinigung der Straßenbau- und Verkehrsingenieure in Nordrhein-Westfalen e.V. (VSVI NRW), Bezirksgruppe Aachen, veranstaltet.    weitere Informationen finden Sie hier! 
UID:80928c4c-963d-45ac-8787-8e0ea4d5aa2f
CLASS:PUBLIC
TRANSP:OPAQUE
END:VEVENT
END:VCALENDAR
