BEGIN:VCALENDAR
VERSION:2.0
METHOD:PUBLISH
BEGIN:VEVENT
DTSTART:20220222T080000Z
DTEND:20220224T160000Z
DTSTAMP:20260424T173633Z
SEQUENCE:0
STATUS:CONFIRMED
SUMMARY:67. BetonTage 2023 - Wilkommen zur Zeitwende im Betonbau
DESCRIPTION:Vom 20. - 22. Juni 2023 zeigt die Beton- und Fertigteilindustrie bei den 67. BetonTagen im Congress Centrum Ulm Wege zur Reduzierung des ökologischen Fußabdruckes auf. Diskutieren Sie mit anderen Branchenexpert*innen Themen wie Dekarbonisierung, Carbon Capture and Storage, Ressourcenschonung und Emissionsreduzierung.   Nutzen Sie auch unsere Fachausstellung und knüpfen Sie wertvolle Kontakte. Erleben Sie die Präsentation der Zulieferindustrie im Maschinen-, Software-, Zubehör- und Dienstleistungsbereich mit rund 130 innovativen Unternehmen. Das „Forum Innovation“ an allen drei Kongresstagen ist eine Plattform für ausgewählte Aussteller sowie die Forschung und Anwendung, um Neuentwicklungen und Produktinnovationen für das Bauen mit Betonbauteilen und Betonwaren vorzustellen.   Nähere Informationen finden Sie hier!   
UID:890e6f08-d0d4-439a-9b8f-739dfbee4774
CLASS:PUBLIC
TRANSP:OPAQUE
END:VEVENT
END:VCALENDAR
