BEGIN:VCALENDAR
VERSION:2.0
METHOD:PUBLISH
BEGIN:VEVENT
DTSTART:20230927T070000Z
DTEND:20230927T150000Z
DTSTAMP:20260423T082530Z
SEQUENCE:0
STATUS:CONFIRMED
SUMMARY:FSV-Seminar: Kommunale Straßen - Projektierung kommunaler Straßen - Teil 2
DESCRIPTION:Bei Buchung von mind. 2 Seminartagen können Sie (bei Bekanntgabe) den 4. Seminartag „Rechtliche Grundlagen“ (16.10.2025) zusätzlich gratis besuchen.   Herr Haslehner wird über sein Fachgebiet, die Projektierung ländlicher Straßen, mit den Schwerpunkten Trassierung, Entwurf, Spurwege und standardisierte Oberbauausführung referieren. 
LOCATION:Forschungsgesellschaft Straße - Schiene - Verkehr, 4. Stock, Zimmer 402 ODER Webinar (MS-Teams), Karlsgasse 5, 1040 Wien
UID:8c860307-c983-4a08-951c-fb40b056686b
CLASS:PUBLIC
TRANSP:OPAQUE
END:VEVENT
END:VCALENDAR
