BEGIN:VCALENDAR
VERSION:2.0
METHOD:PUBLISH
BEGIN:VEVENT
DTSTART:20230620T070000Z
DTEND:20230622T140000Z
DTSTAMP:20260423T130432Z
SEQUENCE:0
STATUS:CONFIRMED
SUMMARY:67. BetonTage 2023 - Wilkommen zur Zeitwende im Betonbau
DESCRIPTION:Vom 20. - 22. Juni 2023 zeigt die Beton- und Fertigteilindustrie bei den 67. BetonTagen im Congress Centrum Ulm Wege zur Reduzierung des ökologischen Fußabdruckes auf. Diskutieren Sie mit anderen Branchenexpert*innen Themen wie Dekarbonisierung, Carbon Capture and Storage, Ressourcenschonung und Emissionsreduzierung.   Nutzen Sie auch unsere Fachausstellung und knüpfen Sie wertvolle Kontakte. Erleben Sie die Präsentation der Zulieferindustrie im Maschinen-, Software-, Zubehör- und Dienstleistungsbereich mit rund 130 innovativen Unternehmen. Das „Forum Innovation“ an allen drei Kongresstagen ist eine Plattform für ausgewählte Aussteller sowie die Forschung und Anwendung, um Neuentwicklungen und Produktinnovationen für das Bauen mit Betonbauteilen und Betonwaren vorzustellen.   Nähere Informationen finden Sie hier!   
UID:902352e5-a7ad-4782-b41b-1c6dce35892c
CLASS:PUBLIC
TRANSP:OPAQUE
END:VEVENT
END:VCALENDAR
