BEGIN:VCALENDAR
VERSION:2.0
METHOD:PUBLISH
BEGIN:VEVENT
DTSTART:20241030T080000Z
DTEND:20241030T120000Z
DTSTAMP:20260422T083420Z
SEQUENCE:0
STATUS:CONFIRMED
SUMMARY:FSV-Infonachmittag: Einsatzleiter und Lenker im Winterdienst - Wahl der optimalen Salzstreumenge
DESCRIPTION:Art, Zeitpunkt und Umfang der erforderlichen Schneeräum- und Streueinsätze hängen von der Verkehrsbedeutung  der  einzelnen  Straßen  ab.  Die Art des verwendeten Streumittels wird von den vorhandenen Verkehrsmengen bestimmt.   In den vergangenen Jahren gab es in Österreich eine umfangreiche Forschungstätigkeit zu Effizienz und Wirksamkeit der Salzstreuung. Die dabei im Rahmen von Feld- und Laborversuchen gewonnenen und in der Winterdienstpraxis erprobten Erkenntnisse werden bei dieser Winterdienst-Schulung eingehend erläutert. Die Zusammenhänge von Schneefallmenge, Fahrbahntemperatur und Verkehrsmenge werden dargestellt, um daraus eine optimale Salzstreumenge abzuleiten. Ebenso wird auf die neuesten Entwicklungen in der Salzstreu- und Gerätetechnik eingegangen. 
LOCATION:see:PORT , Hauptstraße 204 (BKS-Gebäude, 2.OG), 9210 Pörtschach am Wörthersee
UID:904814d1-0cd4-41d0-bf7b-228b678ce4bb
CLASS:PUBLIC
TRANSP:OPAQUE
END:VEVENT
END:VCALENDAR
