BEGIN:VCALENDAR
VERSION:2.0
METHOD:PUBLISH
BEGIN:VEVENT
DTSTART:20221020T080000Z
DTEND:20221020T150000Z
DTSTAMP:20260424T032107Z
SEQUENCE:0
STATUS:CONFIRMED
SUMMARY:FSV-Kooperationsveranstaltung: Bundeskongress kommunale Verkehrssicherheit 2022
DESCRIPTION:Seit 2019 veranstaltet die Österreichische Forschungsgesellschaft Straße - Schiene - Verkehr (FSV) den Bundeskongress kommunale Verkehrssicherheit.  Heuer wird die Veranstaltung mit den KooperationspartnerInnen Universität für Bodenkultur Wien (BOKU), Jenoptik und dem Österreichischen Städtebund sowie dem Sponsor REBLOC gestaltet.  Ziel des mittlerweile zu einem festen Bestandteil des FSV-Veranstaltungskalenders gewordenen Bundeskongress kommunale Verkehrssicherheit ist es, möglichst viele am Thema Verkehrssicherheit Interessierte über aktuelle Entwicklungen zu informieren. VertreterInnen von Gemeinden und Städten sollen ebenso angesprochen werden wie PlanerInnen und BehördenvertreterInnen.  Themen des diesjährigen vierten Bundeskongresses sind Mobilität und Straßenverkehrsrecht sowie Innovationen im Bereich Baustellenabsicherungen, Photovoltaik bei Infrastrukturanlagen, Blendwirkung von LED-Reklamen und die Hebung der Verkehrssicherheit bei Farbschwäche. 
LOCATION:Renaissance Wien Hotel , Linke Wienzeile/Ullmannstraße 71, 1150 Wien
UID:97d73773-8452-4fbb-8633-effcd2c6a50a
CLASS:PUBLIC
TRANSP:OPAQUE
END:VEVENT
END:VCALENDAR
