BEGIN:VCALENDAR
VERSION:2.0
METHOD:PUBLISH
BEGIN:VEVENT
DTSTART:20240220T123000Z
DTEND:20240220T154500Z
DTSTAMP:20260422T231809Z
SEQUENCE:0
STATUS:CONFIRMED
SUMMARY:FSV-Einführungsseminar: RVS, Normen, Richtlinien - Der Standard für das Verkehrswesen
DESCRIPTION:Die Forschungsgesellschaft Straße - Schiene - Verkehr (FSV) bildet eine Plattform für Fachleute, die sich mit Planung, Bau, Erhaltung, Betrieb und Nutzung von Verkehrsanlagen befassen. Sie versteht sich als Kompetenzzentrum, das allen Fachleuten aus Wirtschaft, Wissenschaft und Verwaltung offen steht. Als Ansprechpartnerin für Auftraggeber und Auftragnehmer ist sie das Bindeglied für den öffentlichen sowie den privaten Sektor im Verkehrswesen. Vereinheitlichung und Standardisierung in Europa wird durch die EN, ÖNORMEN, RVS/RVE und weitere Richtlinien gewährleistet. Die Arten, der Aufbau und das Verhältnis zueinander, sowie die Auswirkungen auf das Verkehrswesen werden bei diesem Infonachmittag den Teilnehmer:innen näher gebracht, um die Anwendung in der Praxis zu erleichtern. 
LOCATION:Forschungsgesellschaft Straße - Schiene - Verkehr, 3. Stock, Saal D ODER Webinar (MS-Teams), Karlsgasse 5, 1040 Wien
UID:987ff12a-ef31-4e50-a0c6-7c07bbda8b36
CLASS:PUBLIC
TRANSP:OPAQUE
END:VEVENT
END:VCALENDAR
