BEGIN:VCALENDAR
VERSION:2.0
METHOD:PUBLISH
BEGIN:VEVENT
DTSTART:20210928T064500Z
DTEND:20210928T160000Z
DTSTAMP:20260425T020244Z
SEQUENCE:0
STATUS:CONFIRMED
SUMMARY:FSV-Verkehrstag mit Fachausstellung 2021
LOCATION:Austria Trend Parkhotel Schönbrunn  , Hietzinger Hauptstraße 10-14, 1130 Wien 
UID:98cc8963-a149-4c42-aad8-9cfa422b8bcf
CLASS:PUBLIC
TRANSP:OPAQUE
END:VEVENT
END:VCALENDAR
