BEGIN:VCALENDAR
VERSION:2.0
METHOD:PUBLISH
BEGIN:VEVENT
DTSTART:20241107T100000Z
DTEND:20241108T130000Z
DTSTAMP:20260422T065645Z
SEQUENCE:0
STATUS:CONFIRMED
SUMMARY:D-A-CH-Informationstagung 2024
UID:9c2d29ed-f01b-4a20-afb5-a986fefa06f0
CLASS:PUBLIC
TRANSP:OPAQUE
END:VEVENT
END:VCALENDAR
