BEGIN:VCALENDAR
VERSION:2.0
METHOD:PUBLISH
BEGIN:VEVENT
DTSTART:20210309T120000Z
DTEND:20210309T151500Z
DTSTAMP:20260425T133730Z
SEQUENCE:0
STATUS:CONFIRMED
SUMMARY:FSV-Infonachmittag: Aktuelle VIF Forschungsergebnisse
DESCRIPTION:Die Österreichische Forschungsgesellschaft Straße – Schiene – Verkehr (FSV) sieht es als Ihre Aufgabe, aktuelle Forschungsergebnisse aus dem Verkehrsbereich Verkehrsfachleuten vorzustellen.  In unperiodischen Abständen werden an Infonachmittagen insbesondere aktuelle Forschungsergebnisse der Verkehrsinfrastrukturforschung (VIF) präsentiert.  Im Rahmen dieser Veranstaltung werden zwei Schwerpunkte „Tunnel“, sowie „Klima & Umwelt“ mit VIF Forschungsprojekten von den führenden Institutionen vorgestellt. Ziel ist es dabei, die wissenschaftlichen Arbeiten einerseits den Praktikern näher zu bringen, anderseits die Erhöhung des Bekanntheitsgrades von neuen Erkenntnissen zu fördern. 
LOCATION:MS-Teams , ,  Webinar
UID:9c7dc1cf-da36-48b3-ab61-47bd5fa1d547
CLASS:PUBLIC
TRANSP:OPAQUE
END:VEVENT
END:VCALENDAR
