BEGIN:VCALENDAR
VERSION:2.0
METHOD:PUBLISH
BEGIN:VEVENT
DTSTART:20230927T093000Z
DTEND:20230928T110000Z
DTSTAMP:20260423T082307Z
SEQUENCE:0
STATUS:CONFIRMED
SUMMARY:FGSV-Betonstraßentagung 2023
DESCRIPTION:Die Forschungsgesellschaft für Straßen- und Verkehrswesen lädt die Fachwelt zur Betonstraßentagung 2023 in der Georg-Friedrich-Händel-Halle in Halle (Saale) ein. Wir freuen uns sehr, Sie begrüßen zu dürfen und hoffen, dass Sie eine inspirierende und informative Zeit haben werden. 
LOCATION:Georg-Friedrich-Händel-Halle , Salzgrafenpl. 1, 06108 Halle (Saale)
UID:9f0cc53d-e4bb-4477-8d19-f087b1af0c89
CLASS:PUBLIC
TRANSP:OPAQUE
END:VEVENT
END:VCALENDAR
