BEGIN:VCALENDAR
VERSION:2.0
METHOD:PUBLISH
BEGIN:VEVENT
DTSTART:20240430T113000Z
DTEND:20240430T154500Z
DTSTAMP:20260422T194156Z
SEQUENCE:0
STATUS:CONFIRMED
SUMMARY:RSI/RSA-Forum 2024: Die Sicherheit auf Autobahnen und Schnellstraßen
DESCRIPTION:Die Forschungsgesellschaft Straße, Schiene Verkehr stellt mit ihrem interdisziplinären Angebot an Fortbildungen und Schulungen für Verkehrssicherheit ein hohes Maß an Ausbildung sicher. Besonderer Wert wird dabei auf unterschiedliche Verkehrsarten und Verkehrsinfrastruktur gelegt. Road Safety Audit und Road Safety Inspections haben bereits vor Jahren auf Grundlage von FSV-Richtlinien und den dann folgenden internationalen und nationalen gesetzlichen Bestimmungen bei der praktischen Anwendung auf Autobahnen und Schnellstraßen Einzug gehalten, daher gilt es einmal mehr aktuell die Sicherheit von Autobahnen und Schnell-straßen zu bilanzieren. Es gilt darzustellen, inwieweit sich der hohe Sicherheitsaufwand auf diesen Primärstraßen in Österreich und international gerechnet hat, aber auch über Details zu berichten, welcher technischer Aufwand seitens der ASFINAG betrieben wird, um im hochrangigen Straßennetz tödliche Unfälle hintanzuhalten...  E. Pfleger Vorsitzender des ZE   
LOCATION:Forschungsgesellschaft Straße - Schiene - Verkehr, 1. Stock, Saal A, Karlsgasse 5, 1040 Wien
UID:a03c13b6-161c-47a0-a309-a4bc92abc742
CLASS:PUBLIC
TRANSP:OPAQUE
END:VEVENT
END:VCALENDAR
