BEGIN:VCALENDAR
VERSION:2.0
METHOD:PUBLISH
BEGIN:VEVENT
DTSTART:20221011T070000Z
DTEND:20221011T123000Z
DTSTAMP:20260424T032658Z
SEQUENCE:0
STATUS:CONFIRMED
SUMMARY:Planung von Radverkehrsinfrastruktur nach der neuen RVS 03.02.13
DESCRIPTION:Die Kooperationsveranstaltung zwischen dem Bundesministerium für Klimaschutz, Umwelt, Energie, Mobilität, Innovation und Technologie (BMK) / klimaaktiv mobil, dem Kuratorium für Verkehrssicherheit (KFV), dem Land Burgenland und der Österreichischen Forschungsgesellschaft Straße - Schiene - Verkehr (FSV), als Herausgeberin der Richtlinien und Vorschriften für das Straßenwesen (RVS), tourt im Herbst 2022 durch alle Bundesländer Österreichs um die Planung von Radverkehrsinfrastruktur nach der neuen RVS 03.02.13 „Radverkehr“ (Juli 2022) vorzustellen.  Ziel des eintägigen Informations- und Planungsseminars ist, Gemeinde- und LändervertreterInnen die neue RVS 03.02.13, die vom FSV-Arbeitsausschuss „Radverkehr“ erstellt wurde und über klimaaktivmobil.fsv.at kostenlos heruntergeladen werden kann, vorzustellen.  Dabei wird gleich zu Beginn der Veranstaltung die RVS erläutert und im Anschluss daran werden Praxisbeispiele im jeweiligen Bundesland und in Österreich präsentiert. Nach der Mittagspause wird der Seminartag mit der Vorstellung von Bundes- und Landesförderungen für den Radverkehr abgerundet. 
LOCATION:Liszt am Bach , Franz-Liszt-Platz 1, 7321 Raiding
UID:a1542535-ee0d-47a0-b663-b0ff5091fe61
CLASS:PUBLIC
TRANSP:OPAQUE
END:VEVENT
END:VCALENDAR
