BEGIN:VCALENDAR
VERSION:2.0
METHOD:PUBLISH
BEGIN:VEVENT
DTSTART:20240314T160000Z
DTEND:20240314T170000Z
DTSTAMP:20260422T205103Z
SEQUENCE:0
STATUS:CONFIRMED
SUMMARY:Parkraummanagement als Steuerungsinstrument des Urbanen Verkehrs
DESCRIPTION:Donnerstag 17 Uhr ist eine Vortragsreihe der Fakultät für Bauingenieurwissenschaften, die jeweils am Donnerstag um 17:00 c.t. in der Lessingstraße 25/I im Hörsaal L (Porr) der Technischen Universität Graz stattfindet. weitere Informationen finden Sie HIER! 
LOCATION:TU Graz  , Rechbauerstraße 12, 8010 Graz 
UID:a45c4f10-34a5-4848-8537-7169ad12fbad
CLASS:PUBLIC
TRANSP:OPAQUE
END:VEVENT
END:VCALENDAR
