BEGIN:VCALENDAR
VERSION:2.0
METHOD:PUBLISH
BEGIN:VEVENT
DTSTART:20250521T071500Z
DTEND:20250522T141500Z
DTSTAMP:20260421T201849Z
SEQUENCE:0
STATUS:CONFIRMED
SUMMARY:FSV-Schulung: Gewässerschutzanlagen Ursache – Funktion – Wirkung
DESCRIPTION:Ziel dieser Schulung ist die Vermittlung von Grundlagenwissen rund um die Behandlung von Straßenwasser. Der Bogen spannt sich von der Theorie über Gesetzesbestimmungen und technische Normen bis hin zur Funktion von Gewässerschutzanlagen und dem Praxisbezug mit Arbeitnehmerschutz und Störfallmanagement.    Ein wesentliches Anliegen der Veranstaltung ist es, sowohl das Verständnis für die Schnittstellen zwischen Planung/Bau und Bau/Betrieb zu erwecken, als auch die Identifikation mit dem Gewässerschutz und das Wissen über die Funktion von Gewässerschutzanlagen zu fördern.    Den Teilnehmern wird im Rahmen der Vortragsblöcke und der Diskussionsrunden ausreichend Gelegenheit für einen internen Erfahrungsaustausch gegeben. Auch fachliche Anregungen, Erfahrungen und Kritikpunkte von den Teilnehmern sind erwünscht, um diese Anliegen an Planer, Baufirmen und Behörden weiterzuleiten.  
LOCATION:Forschungsgesellschaft Straße - Schiene - Verkehr, 1. Stock, Saal A+B, Karlsgasse 5, 1040 Wien
UID:a6b2af12-af34-4b3f-bb8e-00f56b6cf76c
CLASS:PUBLIC
TRANSP:OPAQUE
END:VEVENT
END:VCALENDAR
