BEGIN:VCALENDAR
VERSION:2.0
METHOD:PUBLISH
BEGIN:VEVENT
DTSTART:20211005T070000Z
DTEND:20211006T150000Z
DTSTAMP:20260425T002350Z
SEQUENCE:0
STATUS:CONFIRMED
SUMMARY:FGSV Betonstraßentagung 2021
DESCRIPTION:Die Forschungsgesellschaft für Straßen- und Verkehrswesen lädt die Fachwelt zur Betonstraßentagung 2021 nach Bochum ein. Auch diesmal erwarten Sie die aktuellen Entwicklungen und Informationen auf dem Gebiet des Betonstraßenbaus.  Nähere Informationen finden Sie hier!   
UID:a731c080-8148-460f-953a-94a2077972c5
CLASS:PUBLIC
TRANSP:OPAQUE
END:VEVENT
END:VCALENDAR
