BEGIN:VCALENDAR
VERSION:2.0
METHOD:PUBLISH
BEGIN:VEVENT
DTSTART:20240123T090000Z
DTEND:20240123T150000Z
DTSTAMP:20260423T004555Z
SEQUENCE:0
STATUS:CONFIRMED
SUMMARY:Recyclinggerechte Ausschreibung und Vergabe
DESCRIPTION:Die Anmeldung erfolgt über die Homepage vom BRV zur Anmeldung   Auf Basis des Bundesvergabegesetzes und der neuen aktuellen standardisierten Leistungsbeschreibung LB-VI werden Möglichkeiten einer recyclinggerechten Ausschreibung und Vergabe dargelegt. Die Teilnehmenden erhalten damit ein Werkzeug zur eigenen Umsetzung einer recyclinggerechten Ausschreibung und Vergabe. 
LOCATION:Forschungsgesellschaft Straße - Schiene - Verkehr, 1. Stock, Saal A+B, Karlsgasse 5, 1040 Wien
UID:a9f86ec3-2a98-4ae4-a0e5-13303d4a697c
CLASS:PUBLIC
TRANSP:OPAQUE
END:VEVENT
END:VCALENDAR
