BEGIN:VCALENDAR
VERSION:2.0
METHOD:PUBLISH
BEGIN:VEVENT
DTSTART:20221006T070000Z
DTEND:20221007T150000Z
DTSTAMP:20260424T032221Z
SEQUENCE:0
STATUS:CONFIRMED
SUMMARY:XVI. Österreichische Fachkonferenz für FußgängerInnen
DESCRIPTION:Vorträge Präsentationen Workshops Projektkurzvorstellung "Speed-Dating" Good-Practice Vernetzung "Walk-Shops" (Rundgänge) und regionale Exkursionen  
UID:af148427-b430-4620-bf1d-819ff58a1efd
CLASS:PUBLIC
TRANSP:OPAQUE
END:VEVENT
END:VCALENDAR
