BEGIN:VCALENDAR
VERSION:2.0
METHOD:PUBLISH
BEGIN:VEVENT
DTSTART:20221006T070000Z
DTEND:20221006T131500Z
DTSTAMP:20260424T032900Z
SEQUENCE:0
STATUS:CONFIRMED
SUMMARY:Planung von Radverkehrsinfrastruktur nach der neuen RVS 03.02.13
DESCRIPTION:Die Kooperationsveranstaltung zwischen dem Bundesministerium für Klimaschutz, Umwelt, Energie, Mobilität, Innovation und Technologie (BMK) / klimaaktiv mobil, dem Kuratorium für Verkehrssicherheit (KFV), dem Land Tirol und der Österreichischen Forschungsgesellschaft Straße - Schiene - Verkehr (FSV), als Herausgeberin der Richtlinien und Vorschriften für das Straßenwesen (RVS), tourt im Herbst 2022 durch alle Bundesländer Österreichs um die Planung von Radverkehrsinfrastruktur nach der neuen RVS 03.02.13 „Radverkehr“ (Juli 2022) vorzustellen.  Ziel des eintägigen Informations- und Planungsseminars ist, Gemeinde- und LändervertreterInnen die neue RVS 03.02.13, die vom FSV-Arbeitsausschuss „Radverkehr“ erstellt wurde und über klimaaktivmobil.fsv.at kostenlos heruntergeladen werden kann, vorzustellen.  Dabei wird gleich zu Beginn der Veranstaltung die RVS erläutert und im Anschluss daran werden Praxisbeispiele im jeweiligen Bundesland und in Österreich präsentiert. Nach der Mittagspause wird der Seminartag mit der Vorstellung von Bundes- und Landesförderungen für den Radverkehr abgerundet. 
LOCATION:Großer Saal, Landhaus 1 , Eduard-Wallnöfer-Platz 3, 6020 Innsbruck
UID:b54f2d47-9c29-4d1d-9a16-b7c6e45d3384
CLASS:PUBLIC
TRANSP:OPAQUE
END:VEVENT
END:VCALENDAR
