BEGIN:VCALENDAR
VERSION:2.0
METHOD:PUBLISH
BEGIN:VEVENT
DTSTART:20230327T063000Z
DTEND:20230329T121500Z
DTSTAMP:20260423T182102Z
SEQUENCE:0
STATUS:CONFIRMED
SUMMARY:FSV-Schulung: Brückeninspektoren - Basislehrgang
LOCATION:Forschungsgesellschaft Straße - Schiene - Verkehr, 1. Stock, Saal A, Karlsgasse 5, 1040 Wien
UID:b56ea4c5-4dd4-4a6b-9eb6-eb35b02ecf08
CLASS:PUBLIC
TRANSP:OPAQUE
END:VEVENT
END:VCALENDAR
