BEGIN:VCALENDAR
VERSION:2.0
METHOD:PUBLISH
BEGIN:VEVENT
DTSTART:20231019T070000Z
DTEND:20231019T150000Z
DTSTAMP:20260423T062829Z
SEQUENCE:0
STATUS:CONFIRMED
SUMMARY:FSV-Kooperationsveranstaltung: Bundeskongress kommunale Verkehrssicherheit 2023
DESCRIPTION:Seit 2019 veranstaltet die Österreichische Forschungsgesellschaft Straße - Schiene - Verkehr (FSV) den Bundeskongress kommunale Verkehrssicherheit mit mehreren KooperationspartnerInnen.  Ziel des mittlerweile zu einem festen Bestandteil des FSV-Veranstaltungskalenders gewordenen Bundeskongress kommunale Verkehrssicherheit ist es, möglichst viele am Thema Verkehrssicherheit Interessierte über aktuelle Entwicklungen zu informieren. VertreterInnen von Gemeinden und Städten sollen ebenso angesprochen werden wie PlanerInnen und BehördenvertreterInnen.  Themen des diesjährigen fünften Bundeskongresses sind unter anderem Verkehrsüberwachung in Gemeinden, Rechtsabbiegen bei Rot für Fahrräder und Verkehrsberuhigung durch bauliche Gestaltungen. 
LOCATION:Renaissance Wien Hotel , Linke Wienzeile/Ullmannstraße 71, 1150 Wien
UID:b86bdf5d-a560-4722-8d64-055333256b99
CLASS:PUBLIC
TRANSP:OPAQUE
END:VEVENT
END:VCALENDAR
