BEGIN:VCALENDAR
VERSION:2.0
METHOD:PUBLISH
BEGIN:VEVENT
DTSTART:20250506T064500Z
DTEND:20250506T144500Z
DTSTAMP:20260421T201819Z
SEQUENCE:0
STATUS:CONFIRMED
SUMMARY:FSV-Verkehrstag mit Fachausstellung 2025
DESCRIPTION:Die größte Tagung der Forschungsgesellschaft Straße – Schiene – Verkehr (FSV) findet jährlich in Form des FSV-Verkehrstages statt. Die Standbeine der FSV sind ihre Arbeitsgruppen, die Richtlinien und Vorschriften für das Straßenwesen (RVS) und Eisenbahnwesen (RVE) erstellen. Wie in den Vorjahren werden auch im Jahr 2025 die Themen aus den aktuellsten Projekten der Arbeitsgruppen und Arbeitsausschüsse gewählt. So wird auch am FSV-Verkehrstag 2025 ein vielseitiges Programm mit interessanten Themen geboten. 
LOCATION:Vienna Marriott Hotel , Parkring 12a, 1010 Wien
UID:bec276c8-9ff1-48e9-b28d-28589e7b5de6
CLASS:PUBLIC
TRANSP:OPAQUE
END:VEVENT
END:VCALENDAR
