BEGIN:VCALENDAR
VERSION:2.0
METHOD:PUBLISH
BEGIN:VEVENT
DTSTART:20221109T080000Z
DTEND:20221109T160000Z
DTSTAMP:20260424T013750Z
SEQUENCE:0
STATUS:CONFIRMED
SUMMARY:FSV-Seminar: Kommunale Straßen - ArbeitnehmerInnenschutz; Absicherung von Baustellen, Straßenbetrieb
DESCRIPTION:Bei Buchung von mind. 2 Seminartagen können Sie (bei Bekanntgabe) den 4. Seminartag „Rechtliche Grundlagen“ (16.10.2025) zusätzlich gratis besuchen.   Das Sicherheitsmanagement, im Speziellen die Verantwortung der Führungskräfte, wird von Herrn Baresch vorgestellt. Des Weiteren werden die Gefahrenermittlung und Gefahrenbeseitigung, die Verwendung persönlicher Schutzausrüstung, die Eigenabsicherung und die Bauarbeiten-Koordination besprochen.   Herr Längauer stellt im ersten Teil seines Vortrags den Straßenbetrieb vor, wobei er im Besonderen auf die Aufgaben und die Organisation des Straßenbetriebes, die Straßenausrüstung, die Wild- und Amphibienschutzeinrichtungen und auf die Pflege der Straßenbepflanzungen eingeht. Im zweiten Teil erläutert er die Absicherung von Baustellen. Enthalten sind die Ankündigung und die Kennzeichnung von Baustellen sowie die Baustellenausrüstung.   
LOCATION:Forschungsgesellschaft Straße - Schiene - Verkehr, 4. Stock, Zimmer 402, Karlsgasse 5, 1040 Wien
UID:c2a3bee9-b861-4716-942d-190dbe001101
CLASS:PUBLIC
TRANSP:OPAQUE
END:VEVENT
END:VCALENDAR
