BEGIN:VCALENDAR
VERSION:2.0
METHOD:PUBLISH
BEGIN:VEVENT
DTSTART:20210913T080000Z
DTEND:20210913T141500Z
DTSTAMP:20260425T015726Z
SEQUENCE:0
STATUS:CONFIRMED
SUMMARY:FSV-Seminar: LB-VI 06 - Updateseminar
DESCRIPTION:Die Neuausgabe der Standardisierten Leistungsbeschreibung Verkehr und Infrastruktur Version 06 (LB-VI 06) setzt neue Maßstäbe in Hinblick auf erstmalig formulierte Leistungs- und Unterleistungsgruppen als auch in der Überarbeitung, z.B.: hinsichtlich der neuen Bezeichnungen für Erdarbeiten gemäß RVS 08.03.01. Die Standardisierte Leistungsbeschreibung Verkehr und Infrastruktur Version 05 (LB-VI 05) wurde von der Österreichischen Forschungsgesellschaft Straße - Schiene - Verkehr (FSV) im Jahr 2018 herausgegeben. Die LB-VI 05 war bereits eine Zusammenführung von Leistungsbeschreibungen, insbesondere des Straßen-, Brücken-, Tunnel-, Siedlungswasser-, Fluss- und Landschaftsbaus. Die Leistungsgruppennummerierung wurde gegenüber der LB-VI 05 beibehalten, auch wo möglich ergänzt, und orientiert sich am Bauablauf in der Praxis.  
LOCATION:Forschungsgesellschaft Straße - Schiene - Verkehr, 1. Stock, Saal A, Karlsgasse 5, 1040 Wien
UID:c3c7cac4-012b-49aa-b297-8d0c81464a72
CLASS:PUBLIC
TRANSP:OPAQUE
END:VEVENT
END:VCALENDAR
