BEGIN:VCALENDAR
VERSION:2.0
METHOD:PUBLISH
BEGIN:VEVENT
DTSTART:20241111T090000Z
DTEND:20241111T151500Z
DTSTAMP:20260422T064358Z
SEQUENCE:0
STATUS:CONFIRMED
SUMMARY:FSV-Seminar: LB-VI 07 - Updateseminar
DESCRIPTION:Die Standardisierte Leistungsbeschreibung Verkehr und Infrastruktur Version 07, ein großer Meilenstein für AuftraggeberInnen, PlanerInnen und AuftragnehmerInnen für alle Bereiche des Ingenieurbaus, wird am 01. November 2024 veröffentlicht.  In diesem Updateseminar informieren die Fachexperten der LB-VI über die Änderungen sowie Neuerungen von LB-VI06 zu LB-VI07.  Fragen zu diesen Änderungen können direkt in der Veranstaltung an die Vortagenden gestellt werden.  
LOCATION:Falkensteiner Hotel & Asia Spa Leoben , In der Au 1-3, 8700 Leoben 
UID:c4b9bcb7-5f50-491f-a4c8-e3831d98400a
CLASS:PUBLIC
TRANSP:OPAQUE
END:VEVENT
END:VCALENDAR
