BEGIN:VCALENDAR
VERSION:2.0
METHOD:PUBLISH
BEGIN:VEVENT
DTSTART:20201001T073000Z
DTEND:20201001T150000Z
DTSTAMP:20260425T223829Z
SEQUENCE:0
STATUS:CONFIRMED
SUMMARY:FSV-Kooperationsveranstaltung: Bundeskongress kommunale Verkehrssicherheit 2020
DESCRIPTION:  Das zweite Mal veranstaltet die Österreichische Forschungsgesellschaft Straße - Schiene - Verkehr (FSV) in Kooperation mit den Partnern Universität für Bodenkultur Wien (BOKU)  Kuratorium für Verkehrssicherheit (KFV)  Österreichischer Städtebund  Österreichischer Gemeindebund  Jenoptik   den Bundeskongress kommunale Verkehrssicherheit. Ziel ist es möglichst viele am Thema Verkehrssicherheit interessierte über aktuelle Entwicklungen zu informieren. Vertreter/innen von Gemeinden und Städten sollen ebenso angesprochen werden wie Planer/innen und Behördenvertreter/innen.  Themen des zweiten Bundeskongresses sind der Rad- und Fußgängerverkehr unter Berücksichtigung elektrisch angetriebener Miniroller, infrastrukturelle Fragen im Zusammenhang mit LKW, automatisiertem Fahren sowie neue Initiativen der  Verkehrssicherheit und Maßnahmen der Geschwindigkeitsregulierung. 
LOCATION:Renaissance Wien Hotel , Linke Wienzeile/Ullmannstraße 71, 1150 Wien
UID:c9cb45d6-16eb-407c-a7c4-08537b9e5792
CLASS:PUBLIC
TRANSP:OPAQUE
END:VEVENT
END:VCALENDAR
