BEGIN:VCALENDAR
VERSION:2.0
METHOD:PUBLISH
BEGIN:VEVENT
DTSTART:20211013T100000Z
DTEND:20211015T143000Z
DTSTAMP:20260425T001937Z
SEQUENCE:0
STATUS:CONFIRMED
SUMMARY:Internationale Infrastrukturtagung 2021
DESCRIPTION:41. Bundestagung der Deutschen Landeskulturgesellschaft (DLKG)   Neue Wege digital und analog! Den Wandel im ländlichen Raum aktiv gestalten.   Die Geschichte der traditionsreichen Internationalen Infrastrukturtagung – ehemals Drei-Länder-Wegebautagung – beginnt 1965. Seitdem tauschen sich die Länder Deutschland, Österreich und Schweiz regelmäßig zu Fragen der ländlichen Infrastrukturen, insbesondere des ländlichen Wegebaus aus. Weitere Informationen finden Sie hier! 
UID:cd9db0b0-e0f3-40ed-bad0-ac743fd73c0c
CLASS:PUBLIC
TRANSP:OPAQUE
END:VEVENT
END:VCALENDAR
