BEGIN:VCALENDAR
VERSION:2.0
METHOD:PUBLISH
BEGIN:VEVENT
DTSTART:20250331T110000Z
DTEND:20250331T150000Z
DTSTAMP:20260422T000146Z
SEQUENCE:0
STATUS:CONFIRMED
SUMMARY:FSV-Infonachmittag: Aktuelle Fragen in der Verkehrsplanung, Straßengestaltung und Verkehrssicherheit
DESCRIPTION:Verkehrsplanung nimmt in der Forschungsgesellschaft Straße | Schiene | Verkehr über mehrere Arbeitsgruppen einen breiten Raum ein.   Der FSV-Infonachmittag „Aktuelle Fragen der Verkehrsplanung, Straßengestaltung und Verkehrssicherheit“ wurde, seinerzeit in Gedenken an Bernd Skoric, im Jahr 2019 erstmals abgehalten. Veranstaltet wurde er seither von den FSV-Arbeitsgruppen „Planung und Verkehrssicherheit", „Stadtverkehr“ und „Grundlagen des Verkehrswesens“. Charakteristisch ist, dass stets arbeitsgruppen- wie auch arbeitsausschussüberschneidend unterschiedliche Themen behandelt werden.   Auch bei der diesjährigen 8. Veranstaltung ist daher wieder – ganz bewusst – kein thematischer Schwerpunkt gesetzt. Vielmehr werden Beispiele unterschiedlicher aktueller Themen in der Verkehrsplanung, Straßengestaltung und Verkehrssicherheit präsentiert und diskutiert - siehe Programm.   Die Veranstaltung bietet – wie gewohnt – eine hervorragende Möglichkeit zum Austausch und Vernetzen zwischen allen Teilnehmenden. 
LOCATION:Forschungsgesellschaft Straße - Schiene - Verkehr, 1. Stock, Saal A+B, Karlsgasse 5, 1040 Wien
UID:d0dfcb33-1b67-4032-b416-46dec75efc35
CLASS:PUBLIC
TRANSP:OPAQUE
END:VEVENT
END:VCALENDAR
