BEGIN:VCALENDAR
VERSION:2.0
METHOD:PUBLISH
BEGIN:VEVENT
DTSTART:20211206T123000Z
DTEND:20211206T150000Z
DTSTAMP:20260424T205312Z
SEQUENCE:0
STATUS:CONFIRMED
SUMMARY:FSV-Schulung: Pflasterstein- und Pflasterplattendecken, Randeinfassungen
DESCRIPTION:Die RVS 08.18.01 „Pflasterstein- und -plattendecken, Randeinfassungen“ wurde grundlegend überarbeitet und ist mit Anfang 2025 in einer völlig neuen Fassung veröffentlicht worden. Mit der Einbindung aktueller Forschungsergebnisse und praxisnaher, grafischer Darstellungen wurde ein umfassendes, modernes Regelwerk geschaffen, das den aktuellen Anforderungen in Planung und Ausführung gerecht wird. Darüber hinaus wurden u.a. bedeutende Themen wie Barrierefreiheit und hydroaktive Pflaster- und Plattenflächen aufgenommen, um zukunftsorientierte Lösungen zu bieten.   Diese neue RVS richtet sich an alle, die mit der Planung, Herstellung und Instandhaltung von Pflasterungen betraut sind. Gerade bei dieser anspruchsvollen Bauweise spielen nicht nur fachmännische Erfahrung, sondern auch die richtige Wahl der Bautypen und Bauweisen eine entscheidende Rolle –-immer im Hinblick auf die spezifischen Anforderungen des jeweiligen Projekts.   In dieser Veranstaltung erhalten Sie fundierte Einblicke in: Grundlagen, z.B. die Wahl geeigneter Baumaterialien.  Planung und Ausführung, einschließlich Oberbaubemessung, Gefälleausbildung und Entwässerung.  Instandhaltung und Instandsetzung. Das Regelwerk ist sowohl für öffentliche als auch gewerbliche und private Anwendungen konzipiert. Die Inhalte werden praxisnah vermittelt und beleuchten die Thematik aus den Perspektiven von Auftraggebern und Auftragnehmern gleichermaßen.   
LOCATION:MS-Teams , ,  Webinar
UID:d5943556-ac1e-40f3-b3dd-dc69e7cef1b4
CLASS:PUBLIC
TRANSP:OPAQUE
END:VEVENT
END:VCALENDAR
