BEGIN:VCALENDAR
VERSION:2.0
METHOD:PUBLISH
BEGIN:VEVENT
DTSTART:20220509T060000Z
DTEND:20220511T140000Z
DTSTAMP:20260424T124722Z
SEQUENCE:0
STATUS:CONFIRMED
SUMMARY:11. Internationale Tagung "Sicherheit und Belüftung von Tunnelanlagen"
DESCRIPTION:weitere Informationen: www.tunnel-graz.at Veranstaltungsort: Graz, Österreich 
UID:d82327f7-6db8-4ee2-b914-8eec2843508a
CLASS:PUBLIC
TRANSP:OPAQUE
END:VEVENT
END:VCALENDAR
