BEGIN:VCALENDAR
VERSION:2.0
METHOD:PUBLISH
BEGIN:VEVENT
DTSTART:20220427T120000Z
DTEND:20220427T160000Z
DTSTAMP:20260424T142548Z
SEQUENCE:0
STATUS:CONFIRMED
SUMMARY:RSI/RSA-Forum 2022: Baustellen und Road Safety Inspection
DESCRIPTION:Die Österreichische Forschungsgesellschaft Straße – Schiene – Verkehr (FSV) hat bisher mit dem breiten Angebot an Fach- und Fortbildungsschulungen für alle VerkehrssicherheitsauditorInnen und Road Safety InspektorInnen ein hohes Maß an Ausbildung ermöglicht. Unabhängig davon werden mit dem RSI/RSA-Forum weitere Möglichkeiten des Dialogs geboten, um wichtige Themenbereiche interdisziplinär und fachübergreifend breit diskutieren zu können. Das Thema Baustellen ist ein Sonderthema der Verkehrssicherheit, da der Regelkreis für die Unfallanalysen aufgrund des kurzen Zeitfaktors meist unterbrochen ist.  Daher sind neben der Anwendung der Richtlinien vor allem das Audit für die Baustellenplanung sowie das Monitoring unmittelbar nach der Betriebsaufnahme unumgänglich. Lassen Indizien wie Bremsspuren, Driftspuren, Beschädigungen der Ausstattung auf Konflikte oder gar auf Unfälle schließen, ist die sofortige Road Safety Inspection Pflicht. Jedenfalls tragen rasches Handeln und Prophylaxe durch erfahrene SicherheitsexpertInnen ganz besonders zur Minimierung von Unfallgefahren und zur Hebung der Verkehrssicherheit bei. Das ExpertInnenwissen der Vortragenden und die hohen Erfahrungswerte der Praxis lassen eine spannende Abfolge für die Vermittlung der Inhalte und Fachdiskussion auf höchstem Niveau erwarten. Sie alle, sehr geehrte Damen und Herren, sind von der FSV besonders eingeladen, dieses Fachwissen weiter zu tragen und auch dadurch zur Erhöhung der Verkehrssicherheit in Analogiefällen beizutragen.  
LOCATION:Forschungsgesellschaft Straße - Schiene - Verkehr, 1. Stock, Saal A, Karlsgasse 5, 1040 Wien
UID:dbbff73e-0358-40e7-8fe3-b6c58cdfcd68
CLASS:PUBLIC
TRANSP:OPAQUE
END:VEVENT
END:VCALENDAR
