BEGIN:VCALENDAR
VERSION:2.0
METHOD:PUBLISH
BEGIN:VEVENT
DTSTART:20211103T090000Z
DTEND:20211103T150000Z
DTSTAMP:20260424T222743Z
SEQUENCE:0
STATUS:CONFIRMED
SUMMARY:Neues zum Asphalt-Recycling
DESCRIPTION:Am Sektor des Asphaltbaus wurden 2019 und 2020 neue Richtlinien ausgearbeitet und in Kraft gesetzt. Der BRV stellt in einem neuen Merkblatt „Verwertung von Ausbauasphalt“ eine übersichtliche Darstellung der Einsatzmöglichkeiten zusammen. Ziel des Seminars ist es die neuen RVS gemeinsam mit den Anforderungen aus der Recycling-Baustoff Verordnung und dem BAWP, zusammengefasst in der Richtlinie für Recycling-Baustoffe, vorzustellen und zu diskutieren. Anmeldung und weitere Informationen finden Sie hier! 
UID:dd8207c2-f180-4626-a014-9fdfc0a7a670
CLASS:PUBLIC
TRANSP:OPAQUE
END:VEVENT
END:VCALENDAR
