BEGIN:VCALENDAR
VERSION:2.0
METHOD:PUBLISH
BEGIN:VEVENT
DTSTART:20221010T080000Z
DTEND:20221013T150000Z
DTSTAMP:20260424T032900Z
SEQUENCE:0
STATUS:CONFIRMED
SUMMARY:FSV-Seminar: Kommunale Straßen - Block A
DESCRIPTION:Die Seminarreihe bietet Interessierten die einmalige Möglichkeit sich von der Planung über den Straßenbetrieb bis zur Erhaltung – speziell zugeschnitten auf den kommunalen und ländlichen Bereich – zeitsparend, kompetent und praxisorientiert zu informieren. Dabei können Sie tageweise jene Themen auswählen, die für Sie von besonderem Interesse sind oder Sie buchen das gesamte Seminar, um umfassend informiert zu werden. 
LOCATION:Forschungsgesellschaft Straße - Schiene - Verkehr, 4. Stock, Zimmer 402, Karlsgasse 5, 1040 Wien
UID:e2d718e7-600c-49d8-a44e-711ae7761308
CLASS:PUBLIC
TRANSP:OPAQUE
END:VEVENT
END:VCALENDAR
