BEGIN:VCALENDAR
VERSION:2.0
METHOD:PUBLISH
BEGIN:VEVENT
DTSTART:20220518T113000Z
DTEND:20220518T153000Z
DTSTAMP:20260424T123343Z
SEQUENCE:0
STATUS:CONFIRMED
SUMMARY:Aktuelle Fragen in der Verkehrsplanung, Straßengestaltung und Verkehrssicherheit
DESCRIPTION:Verkehrsplanung nimmt in der Forschungsgesellschaft Straße | Schiene | Verkehr über mehrere Arbeitsgruppen einen breiten Raum ein.   Der FSV-Infonachmittag „Aktuelle Fragen der Verkehrsplanung, Straßengestaltung und Verkehrssicherheit“ wurde, seinerzeit in Gedenken an Bernd Skoric, im Jahr 2019 erstmals abgehalten. Veranstaltet wurde er seither von den FSV-Arbeitsgruppen „Planung und Verkehrssicherheit", „Stadtverkehr“ und „Grundlagen des Verkehrswesens“. Charakteristisch ist, dass stets arbeitsgruppen- wie auch arbeitsausschussüberschneidend unterschiedliche Themen behandelt werden.   Auch bei der diesjährigen 8. Veranstaltung ist daher wieder – ganz bewusst – kein thematischer Schwerpunkt gesetzt. Vielmehr werden Beispiele unterschiedlicher aktueller Themen in der Verkehrsplanung, Straßengestaltung und Verkehrssicherheit präsentiert und diskutiert - siehe Programm.   Die Veranstaltung bietet – wie gewohnt – eine hervorragende Möglichkeit zum Austausch und Vernetzen zwischen allen Teilnehmenden. 
LOCATION:Forschungsgesellschaft Straße - Schiene - Verkehr, 1. Stock, Saal A, Karlsgasse 5, 1040 Wien
UID:e313ea1a-d394-463b-8502-42a6a1beeb2b
CLASS:PUBLIC
TRANSP:OPAQUE
END:VEVENT
END:VCALENDAR
