BEGIN:VCALENDAR
VERSION:2.0
METHOD:PUBLISH
BEGIN:VEVENT
DTSTART:20240115T083000Z
DTEND:20240117T143000Z
DTSTAMP:20260423T004657Z
SEQUENCE:0
STATUS:CONFIRMED
SUMMARY:FSV-Schulung: Ausführung und Abnahme von Bodenmarkierungen - Ausbildung zur Fachkraft (Theorie & Praxis)
DESCRIPTION:Mit der positiven Absolvierung (positiver Abschlusstest und vollständige Anwesenheit) der Schulung erhalten Sie ein Zertifikat als Fachkraft für Bodenmarkierungen. 
LOCATION:Hotel – Restaurant „das Grambacher“ , Teslastraße 2, 8074 Grambach
UID:e4457162-2536-4984-8993-01ebbd9c1375
CLASS:PUBLIC
TRANSP:OPAQUE
END:VEVENT
END:VCALENDAR
