BEGIN:VCALENDAR
VERSION:2.0
METHOD:PUBLISH
BEGIN:VEVENT
DTSTART:20240321T123000Z
DTEND:20240321T160000Z
DTSTAMP:20260422T211115Z
SEQUENCE:0
STATUS:CONFIRMED
SUMMARY:FSV-Infonachmittag: Pflasterstein- und Pflasterdecken, Randeinfassungen
DESCRIPTION:Die RVS 08.18.01 „Pflasterstein- und Pflasterplattendecken, Randeinfassungen“ wurde überarbeitet und mit 1. Mai 2009 neu herausgegeben. Aktuelle  Erkenntnisse aus Wissenschaft und Praxis, Änderungen in anderen Regelwerken und die Abstimmung auf die Werkvertragsnorm ÖNORM B 2214 - Pflasterarbeiten, die ebenfalls überarbeitet wurde, haben dies notwendig gemacht. Aktuelle Regelwerke, die Rechtssicherheit geben, sind ein wesentlicher Beitrag zur Qualitätssicherung bei der Bauausführung von Pflasterarbeiten. In dem Infonachmittag wird der Fachexperte Ing. Peter Nowotny die Überarbeitung der RVS 08.18.01 „Pflasterstein- und Pflasterplattendecken, Randeinfassungen“, die ÖNORM B2214 diskutieren. Weiters geht er auf die relevanten Baustoffe, Planungsinhalte, Ausführung, Instandsetzung, Instandhaltung sowie Prüfung und Übernahme von Pflasterstein- und Pflasterplattendecken, Randeinfassungen ein.  
LOCATION:Forschungsgesellschaft Straße - Schiene - Verkehr, 3. Stock, Saal D ODER Webinar (MS-Teams), Karlsgasse 5, 1040 Wien
UID:e50af70b-6e66-4cec-9601-5cb01faab38c
CLASS:PUBLIC
TRANSP:OPAQUE
END:VEVENT
END:VCALENDAR
