BEGIN:VCALENDAR
VERSION:2.0
METHOD:PUBLISH
BEGIN:VEVENT
DTSTART:20250324T073000Z
DTEND:20250326T131500Z
DTSTAMP:20260422T000022Z
SEQUENCE:0
STATUS:CONFIRMED
SUMMARY:FSV-Schulung: Brückeninspektoren - Basislehrgang
LOCATION:Forschungsgesellschaft Straße - Schiene - Verkehr, 1. Stock, Saal A+B, Karlsgasse 5, 1040 Wien
UID:e98eab3b-d471-4372-9b0c-b02532db9a64
CLASS:PUBLIC
TRANSP:OPAQUE
END:VEVENT
END:VCALENDAR
