BEGIN:VCALENDAR
VERSION:2.0
METHOD:PUBLISH
BEGIN:VEVENT
DTSTART:20230503T100000Z
DTEND:20230504T110000Z
DTSTAMP:20260423T145746Z
SEQUENCE:0
STATUS:CONFIRMED
SUMMARY:FGSV-Asphaltstraßentagung 2023
DESCRIPTION:Anmeldung HIER!   Die Asphaltstraßentagung 2023 in Aachen steht vor der Tür und bringt eine Fülle von Themen mit sich, die sich um die Zukunft der Asphaltbauweise drehen. Dabei geht es vor allem um den Klimaschutz und die Klimaresilienz im Straßenbau, denn eine der großen Herausforderungen der Zukunft ist es, die Erderwärmung aufzuhalten und gleichzeitig die Infrastruktur widerstandsfähiger gegenüber den Auswirkungen des Klimawandels zu machen.   Weitere Informationen finden Sie hier! 
UID:eaabc347-ccc9-4d10-8934-446180b310fd
CLASS:PUBLIC
TRANSP:OPAQUE
END:VEVENT
END:VCALENDAR
