BEGIN:VCALENDAR
VERSION:2.0
METHOD:PUBLISH
BEGIN:VEVENT
DTSTART:20200923T080000Z
DTEND:20200923T140000Z
DTSTAMP:20260426T002939Z
SEQUENCE:0
STATUS:CONFIRMED
SUMMARY:Neues zum Asphalt-Recycling
DESCRIPTION:Am Sektor des Asphaltbaus wurden 2019 und 2020 neue Richtlinien ausgearbeitet und in Kraft gesetzt. Der BRV stellt in einem neuen Merkblatt „Verwertung von Ausbauasphalt“ eine übersichtliche Darstellung der Einsatzmöglichkeiten zusammen. Ziel des Seminars ist es die neuen RVS gemeinsam mit den Anforderungen aus der Recycling-Baustoff Verordnung und dem BAWP, zusammengefasst in der Richtlinie für Recycling-Baustoffe, vorzustellen und zu diskutieren. Anmeldung und weitere Informationen finden Sie hier! 
LOCATION:Forschungsgesellschaft Straße - Schiene - Verkehr, 1. Stock, Saal A, Karlsgasse 5, 1040 Wien
UID:eb4c7459-a903-4243-95fb-81e793fce9d4
CLASS:PUBLIC
TRANSP:OPAQUE
END:VEVENT
END:VCALENDAR
