BEGIN:VCALENDAR
VERSION:2.0
METHOD:PUBLISH
BEGIN:VEVENT
DTSTART:20211021T063000Z
DTEND:20211021T150000Z
DTSTAMP:20260425T001450Z
SEQUENCE:0
STATUS:CONFIRMED
SUMMARY:Schweizer Tag zum Erhaltungsmanagement der Infrastrukturen - Ausgabe 2021
DESCRIPTION:Nähere Informationen finden Sie hier! 
UID:ec12d4dc-1887-44b3-a7a7-c9aaf45a2a15
CLASS:PUBLIC
TRANSP:OPAQUE
END:VEVENT
END:VCALENDAR
