BEGIN:VCALENDAR
VERSION:2.0
METHOD:PUBLISH
BEGIN:VEVENT
DTSTART:20241125T073000Z
DTEND:20241127T131500Z
DTSTAMP:20260422T065231Z
SEQUENCE:0
STATUS:CONFIRMED
SUMMARY:FSV-Schulung: Brückeninspektoren - Basislehrgang
LOCATION:Forschungsgesellschaft Straße - Schiene - Verkehr, 1. Stock, Saal A+B, Karlsgasse 5, 1040 Wien
UID:ec8a7fff-e325-41ed-b991-820d65173add
CLASS:PUBLIC
TRANSP:OPAQUE
END:VEVENT
END:VCALENDAR
