BEGIN:VCALENDAR
VERSION:2.0
METHOD:PUBLISH
BEGIN:VEVENT
DTSTART:20240129T083000Z
DTEND:20240131T130000Z
DTSTAMP:20260423T004034Z
SEQUENCE:0
STATUS:CONFIRMED
SUMMARY:FSV-Schulung: Ausführung und Abnahme von Bodenmarkierungen - Ausbildung zur Fachkraft (Theorie & Praxis)
DESCRIPTION:Mit der positiven Absolvierung (positiver Abschlusstest und vollständige Anwesenheit) der Schulung erhalten Sie ein Zertifikat als Fachkraft für Bodenmarkierungen. 
LOCATION:Hotel – Restaurant „das Grambacher“ , Teslastraße 2, 8074 Grambach
UID:f0eb98b0-5f2e-4bbd-b97e-f8118df62b91
CLASS:PUBLIC
TRANSP:OPAQUE
END:VEVENT
END:VCALENDAR
