BEGIN:VCALENDAR
VERSION:2.0
METHOD:PUBLISH
BEGIN:VEVENT
DTSTART:20210311T120000Z
DTEND:20210311T163000Z
DTSTAMP:20260425T133217Z
SEQUENCE:0
STATUS:CONFIRMED
SUMMARY:FSV-Infonachmittag: Stellplätze und Garagen richtig planen
DESCRIPTION:Die bestehenden Verkehrsprobleme werden besonders durch Probleme des Parkens im öffentlichen Straßenraum mitbestimmt. Der Platzmangel im innerstädtischen Bereich führt zu Parkplatzsuchverkehr, zu Behinderungen im Fließverkehr, zur Beeinträchtigung der Aufenthaltsqualität im Straßenraum, zur Verdrängung der nicht motorisierten VerkehrsteilnehmerInnen etc. und in weiterer Folge zu Umweltproblemen vielfältiger Art.  Ob Garage oder Parkdeck – die Richtlinien RVS 03.07.31: Vorplanung zu Garagenstandorten, RVS 03.07.32: Entwurfsgrundlagen für Garagen und RVS 03.07.33: Technische Garagenausstattung sollen die Standortwahl erleichtern und Entscheidungsgrundlage für InvestorInnen bilden.   Im Rahmen des Infonachmittags sprechen Fachexperten die Bedürfnisse der BürgerInnen hinsichtlich des Garagenbetriebes und der -ausstattung, der Gemeinden und deren PlanerInnen in Bezug auf die Entwicklung von Garagen und natürlich GaragenbetreiberInnen, die sich über die neuesten Entwicklungen informieren können, an.  
LOCATION:MS-Teams , ,  Webinar
UID:f3cb2062-c1f5-4767-ba69-8c67d3eb9953
CLASS:PUBLIC
TRANSP:OPAQUE
END:VEVENT
END:VCALENDAR
