BEGIN:VCALENDAR
VERSION:2.0
METHOD:PUBLISH
BEGIN:VEVENT
DTSTART:20221003T063000Z
DTEND:20221005T123000Z
DTSTAMP:20260424T032119Z
SEQUENCE:0
STATUS:CONFIRMED
SUMMARY:FSV-Schulung: Brückeninspektoren - Basislehrgang
LOCATION:Forschungsgesellschaft Straße - Schiene - Verkehr, 1. Stock, Saal A, Karlsgasse 5, 1040 Wien
UID:f82c24e9-69dc-4a23-9157-06d1377c80a9
CLASS:PUBLIC
TRANSP:OPAQUE
END:VEVENT
END:VCALENDAR
