BEGIN:VCALENDAR
VERSION:2.0
METHOD:PUBLISH
BEGIN:VEVENT
DTSTART:20230925T080000Z
DTEND:20230925T140000Z
DTSTAMP:20260423T082143Z
SEQUENCE:0
STATUS:CONFIRMED
SUMMARY:FSV-Seminar: Kommunale Straßen - Rechtliche Grundlagen, Schadenshaftung
DESCRIPTION:Bei Buchung von mind. 2 Seminartagen können Sie (bei Bekanntgabe) den 4. Seminartag „Rechtliche Grundlagen“ (16.10.2025) zusätzlich gratis besuchen.   An diesem  Seminartag werden von Herrn Jessner die rechtlichen Grundlagen der Auftragsvergaben für den öffentlichen Auftraggeber und der Aufbau von Behörden und Verwaltung praxisnah vorgestellt. Die Straßenrechtsvorschriften und die Schadenshaftung des öffentlichen Straßenerhalters werden erläutert und diskutiert. 
LOCATION:Forschungsgesellschaft Straße - Schiene - Verkehr, 4. Stock, Zimmer 402 ODER Webinar (MS-Teams), Karlsgasse 5, 1040 Wien
UID:fa043a62-175b-4b36-9844-ee65d959b1aa
CLASS:PUBLIC
TRANSP:OPAQUE
END:VEVENT
END:VCALENDAR
