BEGIN:VCALENDAR
VERSION:2.0
METHOD:PUBLISH
BEGIN:VEVENT
DTSTART:20250227T090000Z
DTEND:20250227T151500Z
DTSTAMP:20260422T015556Z
SEQUENCE:0
STATUS:CONFIRMED
SUMMARY:FSV-Seminar: LB-VI 07 - Updateseminar
DESCRIPTION:Die Standardisierte Leistungsbeschreibung Verkehr und Infrastruktur Version 07, ein großer Meilenstein für AuftraggeberInnen, PlanerInnen und AuftragnehmerInnen für alle Bereiche des Ingenieurbaus, wird am 01. November 2024 veröffentlicht.  In diesem Updateseminar informieren die Fachexperten der LB-VI über die Änderungen sowie Neuerungen von LB-VI06 zu LB-VI07.  Fragen zu diesen Änderungen können direkt in der Veranstaltung an die Vortagenden gestellt werden.  
LOCATION:Forschungsgesellschaft Straße - Schiene - Verkehr, 1. Stock, Saal A+B, Karlsgasse 5, 1040 Wien
UID:fa7248f0-8670-4663-9ca3-5bba202ef8bc
CLASS:PUBLIC
TRANSP:OPAQUE
END:VEVENT
END:VCALENDAR
