BEGIN:VCALENDAR
VERSION:2.0
METHOD:PUBLISH
BEGIN:VEVENT
DTSTART:20201202T080000Z
DTEND:20201202T160000Z
DTSTAMP:20260425T191640Z
SEQUENCE:0
STATUS:CONFIRMED
SUMMARY:FSV-Seminar: Kommunale Straßen - Winterdienst 
DESCRIPTION:Bei Buchung von mind. 2 Seminartagen können Sie (bei Bekanntgabe) den 4. Seminartag „Rechtliche Grundlagen“ (16.10.2025) zusätzlich gratis besuchen.   Das spezielle Gebiet des Winterdienstes wird von Herrn Hoffmann vorgestellt. Er erläutert die Rechtsgrundlagen, die Kosten und Wirtschaftlichkeit des Winterdienstes. Weiters gibt er Einblick in den Schneeschutz an Straßen, die Schneeräumung und Glättebekämpfung. Trägerfahrzeuge werden vorgestellt und die Organisation und Einsatzplanung erläutert.  Der Referent klärt über die Wetterentwicklung und den Fahrbahnzustand sowie die Straßenreinigung auf. 
LOCATION:MS-Teams , ,  Webinar
UID:fda96fe5-0eb0-4086-856a-298563305536
CLASS:PUBLIC
TRANSP:OPAQUE
END:VEVENT
END:VCALENDAR
